View In:
ArcGIS JavaScript
ArcGIS Online Map Viewer
ArcGIS Earth
ArcMap
View Footprint In:
ArcGIS Online Map Viewer
Service Description: Ortho/Orthos_DBO_IM22_5K_3_0721
Name: Ortho/Orthos_DBO_IM22_5K_3_0721
Description:
Single Fused Map Cache: false
Extent:
XMin: 2484942
YMin: 376443.74999998725
XMax: 2517291.5000000047
YMax: 409311.5
Spatial Reference: PROJCS["NAD_1983_2011_StatePlane_Wisconsin_South_FIPS_4803_Ft_US",GEOGCS["GCS_NGN",DATUM["D_NGN",SPHEROID["GRS_1980",6378137.0,298.257222101]],PRIMEM["Greenwich",0.0],UNIT["Degree",0.0174532925199433]],PROJECTION["Lambert_Conformal_Conic"],PARAMETER["False_Easting",1968500.0],PARAMETER["False_Northing",0.0],PARAMETER["Central_Meridian",-90.0],PARAMETER["Standard_Parallel_1",42.7333333333333],PARAMETER["Standard_Parallel_2",44.0666666666667],PARAMETER["Latitude_Of_Origin",42.0],UNIT["Foot_US",0.3048006096012192]]
Initial Extent:
XMin: 2484942
YMin: 376443.74999998725
XMax: 2517291.5000000047
YMax: 409311.5
Spatial Reference: PROJCS["NAD_1983_2011_StatePlane_Wisconsin_South_FIPS_4803_Ft_US",GEOGCS["GCS_NGN",DATUM["D_NGN",SPHEROID["GRS_1980",6378137.0,298.257222101]],PRIMEM["Greenwich",0.0],UNIT["Degree",0.0174532925199433]],PROJECTION["Lambert_Conformal_Conic"],PARAMETER["False_Easting",1968500.0],PARAMETER["False_Northing",0.0],PARAMETER["Central_Meridian",-90.0],PARAMETER["Standard_Parallel_1",42.7333333333333],PARAMETER["Standard_Parallel_2",44.0666666666667],PARAMETER["Latitude_Of_Origin",42.0],UNIT["Foot_US",0.3048006096012192]]
Full Extent:
XMin: 2484942
YMin: 376443.74999998725
XMax: 2517291.5000000047
YMax: 409311.5
Spatial Reference: PROJCS["NAD_1983_2011_StatePlane_Wisconsin_South_FIPS_4803_Ft_US",GEOGCS["GCS_NGN",DATUM["D_NGN",SPHEROID["GRS_1980",6378137.0,298.257222101]],PRIMEM["Greenwich",0.0],UNIT["Degree",0.0174532925199433]],PROJECTION["Lambert_Conformal_Conic"],PARAMETER["False_Easting",1968500.0],PARAMETER["False_Northing",0.0],PARAMETER["Central_Meridian",-90.0],PARAMETER["Standard_Parallel_1",42.7333333333333],PARAMETER["Standard_Parallel_2",44.0666666666667],PARAMETER["Latitude_Of_Origin",42.0],UNIT["Foot_US",0.3048006096012192]]
Pixel Size X: 0.25000000000003597
Pixel Size Y: 0.250000000000097
Band Count: 4
Pixel Type: U8
RasterFunction Infos: {"rasterFunctionInfos": [{
"name": "None",
"description": "",
"help": ""
}]}
Mensuration Capabilities: Basic
Has Histograms: true
Has Colormap: false
Has Multi Dimensions : false
Rendering Rule:
Min Scale: 0
Max Scale: 0
Copyright Text:
Service Data Type: esriImageServiceDataTypeGeneric
Min Values: 0, 0, 0, 0
Max Values: 255, 255, 255, 255
Mean Values: 132.4452651531399, 127.94952415510319, 117.96079277384752, 152.20697634600677
Standard Deviation Values: 43.8536312416667, 43.87488177168509, 46.79647903269697, 71.86311997925235
Object ID Field:
Fields:
None
Default Mosaic Method: Center
Allowed Mosaic Methods:
SortField:
SortValue: null
Mosaic Operator: First
Default Compression Quality: 75
Default Resampling Method: Bilinear
Max Record Count: null
Max Image Height: 4100
Max Image Width: 15000
Max Download Image Count: null
Max Mosaic Image Count: null
Allow Raster Function: true
Allow Copy: true
Allow Analysis: true
Allow Compute TiePoints: false
Supports Statistics: false
Supports Advanced Queries: false
Use StandardizedQueries: true
Raster Type Infos:
Name: Raster Dataset
Description: Supports all ArcGIS Raster Datasets
Help:
Has Raster Attribute Table: false
Edit Fields Info: null
Ownership Based AccessControl For Rasters: null
Child Resources:
Info
Histograms
Statistics
Key Properties
Legend
Raster Function Infos
Supported Operations:
Export Image
Identify
Measure
Compute Histograms
Compute Statistics Histograms
Get Samples
Compute Class Statistics
Query Boundary
Compute Pixel Location
Compute Angles
Validate
Project