{
 "currentVersion": 10.91,
 "serviceDescription": "Ortho/Orthos_DBO_IM22_5K_3_0721",
 "name": "Ortho/Orthos_DBO_IM22_5K_3_0721",
 "description": "",
 "extent": {
  "xmin": 2484942,
  "ymin": 376443.74999998725,
  "xmax": 2517291.5000000047,
  "ymax": 409311.5,
  "spatialReference": {
   "wkt": "PROJCS[\"NAD_1983_2011_StatePlane_Wisconsin_South_FIPS_4803_Ft_US\",GEOGCS[\"GCS_NGN\",DATUM[\"D_NGN\",SPHEROID[\"GRS_1980\",6378137.0,298.257222101]],PRIMEM[\"Greenwich\",0.0],UNIT[\"Degree\",0.0174532925199433]],PROJECTION[\"Lambert_Conformal_Conic\"],PARAMETER[\"False_Easting\",1968500.0],PARAMETER[\"False_Northing\",0.0],PARAMETER[\"Central_Meridian\",-90.0],PARAMETER[\"Standard_Parallel_1\",42.7333333333333],PARAMETER[\"Standard_Parallel_2\",44.0666666666667],PARAMETER[\"Latitude_Of_Origin\",42.0],UNIT[\"Foot_US\",0.3048006096012192]]"
  }
 },
 "initialExtent": {
  "xmin": 2484942,
  "ymin": 376443.74999998725,
  "xmax": 2517291.5000000047,
  "ymax": 409311.5,
  "spatialReference": {
   "wkt": "PROJCS[\"NAD_1983_2011_StatePlane_Wisconsin_South_FIPS_4803_Ft_US\",GEOGCS[\"GCS_NGN\",DATUM[\"D_NGN\",SPHEROID[\"GRS_1980\",6378137.0,298.257222101]],PRIMEM[\"Greenwich\",0.0],UNIT[\"Degree\",0.0174532925199433]],PROJECTION[\"Lambert_Conformal_Conic\"],PARAMETER[\"False_Easting\",1968500.0],PARAMETER[\"False_Northing\",0.0],PARAMETER[\"Central_Meridian\",-90.0],PARAMETER[\"Standard_Parallel_1\",42.7333333333333],PARAMETER[\"Standard_Parallel_2\",44.0666666666667],PARAMETER[\"Latitude_Of_Origin\",42.0],UNIT[\"Foot_US\",0.3048006096012192]]"
  }
 },
 "fullExtent": {
  "xmin": 2484942,
  "ymin": 376443.74999998725,
  "xmax": 2517291.5000000047,
  "ymax": 409311.5,
  "spatialReference": {
   "wkt": "PROJCS[\"NAD_1983_2011_StatePlane_Wisconsin_South_FIPS_4803_Ft_US\",GEOGCS[\"GCS_NGN\",DATUM[\"D_NGN\",SPHEROID[\"GRS_1980\",6378137.0,298.257222101]],PRIMEM[\"Greenwich\",0.0],UNIT[\"Degree\",0.0174532925199433]],PROJECTION[\"Lambert_Conformal_Conic\"],PARAMETER[\"False_Easting\",1968500.0],PARAMETER[\"False_Northing\",0.0],PARAMETER[\"Central_Meridian\",-90.0],PARAMETER[\"Standard_Parallel_1\",42.7333333333333],PARAMETER[\"Standard_Parallel_2\",44.0666666666667],PARAMETER[\"Latitude_Of_Origin\",42.0],UNIT[\"Foot_US\",0.3048006096012192]]"
  }
 },
 "hasMultidimensions": false,
 "pixelSizeX": 0.25000000000003597,
 "pixelSizeY": 0.250000000000097,
 "datasetFormat": "SDR",
 "uncompressedSize": 68048337832,
 "blockWidth": 128,
 "blockHeight": 128,
 "compressionType": "NONE",
 "bandNames": [
  "Band_1",
  "Band_2",
  "Band_3",
  "Band_4"
 ],
 "allowCopy": true,
 "allowAnalysis": true,
 "bandCount": 4,
 "pixelType": "U8",
 "minPixelSize": 0,
 "maxPixelSize": 0,
 "copyrightText": "",
 "serviceDataType": "esriImageServiceDataTypeGeneric",
 "serviceSourceType": "esriImageServiceSourceTypeDataset",
 "minValues": [
  0,
  0,
  0,
  0
 ],
 "maxValues": [
  255,
  255,
  255,
  255
 ],
 "meanValues": [
  132.4452651531399,
  127.94952415510319,
  117.96079277384752,
  152.20697634600677
 ],
 "stdvValues": [
  43.8536312416667,
  43.87488177168509,
  46.79647903269697,
  71.86311997925235
 ],
 "objectIdField": "",
 "fields": [],
 "capabilities": "Mensuration,Image,Metadata",
 "defaultMosaicMethod": "Center",
 "allowedMosaicMethods": "",
 "sortField": "",
 "sortValue": null,
 "sortAscending": true,
 "mosaicOperator": "First",
 "defaultCompressionQuality": 75,
 "defaultResamplingMethod": "Bilinear",
 "maxImageHeight": 4100,
 "maxImageWidth": 15000,
 "allowRasterFunction": true,
 "rasterFunctionInfos": [
  {
   "name": "None",
   "description": "",
   "help": ""
  }
 ],
 "rasterTypeInfos": [
  {
   "name": "Raster Dataset",
   "description": "Supports all ArcGIS Raster Datasets",
   "help": ""
  }
 ],
 "mensurationCapabilities": "Basic",
 "hasHistograms": true,
 "hasColormap": false,
 "hasRasterAttributeTable": false,
 "minScale": 0,
 "maxScale": 0,
 "exportTilesAllowed": false,
 "supportsStatistics": false,
 "supportsAdvancedQueries": false,
 "editFieldsInfo": null,
 "ownershipBasedAccessControlForRasters": null,
 "allowComputeTiePoints": false,
 "useStandardizedQueries": true,
 "advancedQueryCapabilities": {
  "useStandardizedQueries": true,
  "supportsStatistics": false,
  "supportsOrderBy": false,
  "supportsDistinct": false,
  "supportsPagination": false
 },
 "spatialReference": {
  "wkt": "PROJCS[\"NAD_1983_2011_StatePlane_Wisconsin_South_FIPS_4803_Ft_US\",GEOGCS[\"GCS_NGN\",DATUM[\"D_NGN\",SPHEROID[\"GRS_1980\",6378137.0,298.257222101]],PRIMEM[\"Greenwich\",0.0],UNIT[\"Degree\",0.0174532925199433]],PROJECTION[\"Lambert_Conformal_Conic\"],PARAMETER[\"False_Easting\",1968500.0],PARAMETER[\"False_Northing\",0.0],PARAMETER[\"Central_Meridian\",-90.0],PARAMETER[\"Standard_Parallel_1\",42.7333333333333],PARAMETER[\"Standard_Parallel_2\",44.0666666666667],PARAMETER[\"Latitude_Of_Origin\",42.0],UNIT[\"Foot_US\",0.3048006096012192]]"
 }
}
